BEGIN:VCALENDAR
VERSION:2.0
PRODID:-//The Memphis Church - ECPv6.15.17//NONSGML v1.0//EN
CALSCALE:GREGORIAN
METHOD:PUBLISH
X-ORIGINAL-URL:https://thememphischurch.org
X-WR-CALDESC:Events for The Memphis Church
REFRESH-INTERVAL;VALUE=DURATION:PT1H
X-Robots-Tag:noindex
X-PUBLISHED-TTL:PT1H
BEGIN:VTIMEZONE
TZID:UTC
BEGIN:STANDARD
TZOFFSETFROM:+0000
TZOFFSETTO:+0000
TZNAME:UTC
DTSTART:20270101T000000
END:STANDARD
END:VTIMEZONE
BEGIN:VEVENT
DTSTART;TZID=UTC:20281102T140000
DTEND;TZID=UTC:20281102T160000
DTSTAMP:20260419T144832
CREATED:20260127T041725Z
LAST-MODIFIED:20260127T041725Z
UID:10000642-1856786400-1856793600@thememphischurch.org
SUMMARY:TMC Food/Clothes Pantry (Foyer/Sanctuary/Southside)
DESCRIPTION:Contact Jorie at thechurchfoodpantry@gmail.com or at 901-509-3871 option 4
URL:https://thememphischurch.org/event/tmc-food-clothes-pantry-foyer-sanctuary-southside-2/2028-11-02/
END:VEVENT
BEGIN:VEVENT
DTSTART;TZID=UTC:20281104T100000
DTEND;TZID=UTC:20281104T113000
DTSTAMP:20260419T144832
CREATED:20260127T042707Z
LAST-MODIFIED:20260127T042707Z
UID:10000792-1856944800-1856950200@thememphischurch.org
SUMMARY:Men's Bible Discussion (Small Classroom)
DESCRIPTION:Contact Mike Davis (cell 901-340-4129) or Kelbert Fagan (cell 901-314-0690)
URL:https://thememphischurch.org/event/mens-bible-discussion-small-classroom/2028-11-04/
END:VEVENT
BEGIN:VEVENT
DTSTART;TZID=UTC:20281104T100000
DTEND;TZID=UTC:20281104T120000
DTSTAMP:20260419T144832
CREATED:20260127T041220Z
LAST-MODIFIED:20260127T041220Z
UID:10000472-1856944800-1856952000@thememphischurch.org
SUMMARY:TMC Food/Clothes Pantry (Foyer/Sanctuary/Southside)
DESCRIPTION:Contact Jorie at thechurchfoodpantry@gmail.com or at 901-509-3871 option 4
URL:https://thememphischurch.org/event/tmc-food-clothes-pantry-foyer-sanctuary-southside/2028-11-04/
END:VEVENT
BEGIN:VEVENT
DTSTART;TZID=UTC:20281105T103000
DTEND;TZID=UTC:20281105T120000
DTSTAMP:20260419T144832
CREATED:20251107T041130Z
LAST-MODIFIED:20251107T041130Z
UID:10000308-1857033000-1857038400@thememphischurch.org
SUMMARY:Sunday Service
DESCRIPTION:7400 Cordova Club Dr E \nCordova\, TN 38018 \nhttps://www.youtube.com/@thememphischurch296 \n 
URL:https://thememphischurch.org/event/sunday-service/2028-11-05/
LOCATION:TMC\, 7400 Cordova Club Dr E
END:VEVENT
BEGIN:VEVENT
DTSTART;TZID=UTC:20281109T140000
DTEND;TZID=UTC:20281109T160000
DTSTAMP:20260419T144832
CREATED:20260127T041725Z
LAST-MODIFIED:20260127T041725Z
UID:10000643-1857391200-1857398400@thememphischurch.org
SUMMARY:TMC Food/Clothes Pantry (Foyer/Sanctuary/Southside)
DESCRIPTION:Contact Jorie at thechurchfoodpantry@gmail.com or at 901-509-3871 option 4
URL:https://thememphischurch.org/event/tmc-food-clothes-pantry-foyer-sanctuary-southside-2/2028-11-09/
END:VEVENT
BEGIN:VEVENT
DTSTART;TZID=UTC:20281112T103000
DTEND;TZID=UTC:20281112T120000
DTSTAMP:20260419T144832
CREATED:20251107T041130Z
LAST-MODIFIED:20251107T041130Z
UID:10000309-1857637800-1857643200@thememphischurch.org
SUMMARY:Sunday Service
DESCRIPTION:7400 Cordova Club Dr E \nCordova\, TN 38018 \nhttps://www.youtube.com/@thememphischurch296 \n 
URL:https://thememphischurch.org/event/sunday-service/2028-11-12/
LOCATION:TMC\, 7400 Cordova Club Dr E
END:VEVENT
BEGIN:VEVENT
DTSTART;TZID=UTC:20281116T140000
DTEND;TZID=UTC:20281116T160000
DTSTAMP:20260419T144832
CREATED:20260127T041725Z
LAST-MODIFIED:20260127T041725Z
UID:10000644-1857996000-1858003200@thememphischurch.org
SUMMARY:TMC Food/Clothes Pantry (Foyer/Sanctuary/Southside)
DESCRIPTION:Contact Jorie at thechurchfoodpantry@gmail.com or at 901-509-3871 option 4
URL:https://thememphischurch.org/event/tmc-food-clothes-pantry-foyer-sanctuary-southside-2/2028-11-16/
END:VEVENT
BEGIN:VEVENT
DTSTART;TZID=UTC:20281119T103000
DTEND;TZID=UTC:20281119T120000
DTSTAMP:20260419T144832
CREATED:20251107T041130Z
LAST-MODIFIED:20251107T041130Z
UID:10000310-1858242600-1858248000@thememphischurch.org
SUMMARY:Sunday Service
DESCRIPTION:7400 Cordova Club Dr E \nCordova\, TN 38018 \nhttps://www.youtube.com/@thememphischurch296 \n 
URL:https://thememphischurch.org/event/sunday-service/2028-11-19/
LOCATION:TMC\, 7400 Cordova Club Dr E
END:VEVENT
BEGIN:VEVENT
DTSTART;TZID=UTC:20281123T140000
DTEND;TZID=UTC:20281123T160000
DTSTAMP:20260419T144832
CREATED:20260127T041725Z
LAST-MODIFIED:20260127T041725Z
UID:10000645-1858600800-1858608000@thememphischurch.org
SUMMARY:TMC Food/Clothes Pantry (Foyer/Sanctuary/Southside)
DESCRIPTION:Contact Jorie at thechurchfoodpantry@gmail.com or at 901-509-3871 option 4
URL:https://thememphischurch.org/event/tmc-food-clothes-pantry-foyer-sanctuary-southside-2/2028-11-23/
END:VEVENT
BEGIN:VEVENT
DTSTART;TZID=UTC:20281126T103000
DTEND;TZID=UTC:20281126T120000
DTSTAMP:20260419T144832
CREATED:20251107T041130Z
LAST-MODIFIED:20251107T041130Z
UID:10000311-1858847400-1858852800@thememphischurch.org
SUMMARY:Sunday Service
DESCRIPTION:7400 Cordova Club Dr E \nCordova\, TN 38018 \nhttps://www.youtube.com/@thememphischurch296 \n 
URL:https://thememphischurch.org/event/sunday-service/2028-11-26/
LOCATION:TMC\, 7400 Cordova Club Dr E
END:VEVENT
BEGIN:VEVENT
DTSTART;TZID=UTC:20281130T140000
DTEND;TZID=UTC:20281130T160000
DTSTAMP:20260419T144832
CREATED:20260127T041725Z
LAST-MODIFIED:20260127T041725Z
UID:10000646-1859205600-1859212800@thememphischurch.org
SUMMARY:TMC Food/Clothes Pantry (Foyer/Sanctuary/Southside)
DESCRIPTION:Contact Jorie at thechurchfoodpantry@gmail.com or at 901-509-3871 option 4
URL:https://thememphischurch.org/event/tmc-food-clothes-pantry-foyer-sanctuary-southside-2/2028-11-30/
END:VEVENT
END:VCALENDAR