BEGIN:VCALENDAR
VERSION:2.0
PRODID:-//The Memphis Church - ECPv6.15.17//NONSGML v1.0//EN
CALSCALE:GREGORIAN
METHOD:PUBLISH
X-ORIGINAL-URL:https://thememphischurch.org
X-WR-CALDESC:Events for The Memphis Church
REFRESH-INTERVAL;VALUE=DURATION:PT1H
X-Robots-Tag:noindex
X-PUBLISHED-TTL:PT1H
BEGIN:VTIMEZONE
TZID:UTC
BEGIN:STANDARD
TZOFFSETFROM:+0000
TZOFFSETTO:+0000
TZNAME:UTC
DTSTART:20270101T000000
END:STANDARD
END:VTIMEZONE
BEGIN:VEVENT
DTSTART;TZID=UTC:20281202T100000
DTEND;TZID=UTC:20281202T113000
DTSTAMP:20260419T212807
CREATED:20260127T042707Z
LAST-MODIFIED:20260127T042707Z
UID:10000793-1859364000-1859369400@thememphischurch.org
SUMMARY:Men's Bible Discussion (Small Classroom)
DESCRIPTION:Contact Mike Davis (cell 901-340-4129) or Kelbert Fagan (cell 901-314-0690)
URL:https://thememphischurch.org/event/mens-bible-discussion-small-classroom/2028-12-02/
END:VEVENT
BEGIN:VEVENT
DTSTART;TZID=UTC:20281202T100000
DTEND;TZID=UTC:20281202T120000
DTSTAMP:20260419T212807
CREATED:20260127T041220Z
LAST-MODIFIED:20260127T041220Z
UID:10000473-1859364000-1859371200@thememphischurch.org
SUMMARY:TMC Food/Clothes Pantry (Foyer/Sanctuary/Southside)
DESCRIPTION:Contact Jorie at thechurchfoodpantry@gmail.com or at 901-509-3871 option 4
URL:https://thememphischurch.org/event/tmc-food-clothes-pantry-foyer-sanctuary-southside/2028-12-02/
END:VEVENT
BEGIN:VEVENT
DTSTART;TZID=UTC:20281203T103000
DTEND;TZID=UTC:20281203T120000
DTSTAMP:20260419T212807
CREATED:20251107T041130Z
LAST-MODIFIED:20251107T041130Z
UID:10000312-1859452200-1859457600@thememphischurch.org
SUMMARY:Sunday Service
DESCRIPTION:7400 Cordova Club Dr E \nCordova\, TN 38018 \nhttps://www.youtube.com/@thememphischurch296 \n 
URL:https://thememphischurch.org/event/sunday-service/2028-12-03/
LOCATION:TMC\, 7400 Cordova Club Dr E
END:VEVENT
BEGIN:VEVENT
DTSTART;TZID=UTC:20281207T140000
DTEND;TZID=UTC:20281207T160000
DTSTAMP:20260419T212807
CREATED:20260127T041725Z
LAST-MODIFIED:20260127T041725Z
UID:10000647-1859810400-1859817600@thememphischurch.org
SUMMARY:TMC Food/Clothes Pantry (Foyer/Sanctuary/Southside)
DESCRIPTION:Contact Jorie at thechurchfoodpantry@gmail.com or at 901-509-3871 option 4
URL:https://thememphischurch.org/event/tmc-food-clothes-pantry-foyer-sanctuary-southside-2/2028-12-07/
END:VEVENT
BEGIN:VEVENT
DTSTART;TZID=UTC:20281210T103000
DTEND;TZID=UTC:20281210T120000
DTSTAMP:20260419T212807
CREATED:20251107T041130Z
LAST-MODIFIED:20251107T041130Z
UID:10000313-1860057000-1860062400@thememphischurch.org
SUMMARY:Sunday Service
DESCRIPTION:7400 Cordova Club Dr E \nCordova\, TN 38018 \nhttps://www.youtube.com/@thememphischurch296 \n 
URL:https://thememphischurch.org/event/sunday-service/2028-12-10/
LOCATION:TMC\, 7400 Cordova Club Dr E
END:VEVENT
BEGIN:VEVENT
DTSTART;TZID=UTC:20281214T140000
DTEND;TZID=UTC:20281214T160000
DTSTAMP:20260419T212807
CREATED:20260127T041725Z
LAST-MODIFIED:20260127T041725Z
UID:10000648-1860415200-1860422400@thememphischurch.org
SUMMARY:TMC Food/Clothes Pantry (Foyer/Sanctuary/Southside)
DESCRIPTION:Contact Jorie at thechurchfoodpantry@gmail.com or at 901-509-3871 option 4
URL:https://thememphischurch.org/event/tmc-food-clothes-pantry-foyer-sanctuary-southside-2/2028-12-14/
END:VEVENT
BEGIN:VEVENT
DTSTART;TZID=UTC:20281217T103000
DTEND;TZID=UTC:20281217T120000
DTSTAMP:20260419T212807
CREATED:20251107T041130Z
LAST-MODIFIED:20251107T041130Z
UID:10000314-1860661800-1860667200@thememphischurch.org
SUMMARY:Sunday Service
DESCRIPTION:7400 Cordova Club Dr E \nCordova\, TN 38018 \nhttps://www.youtube.com/@thememphischurch296 \n 
URL:https://thememphischurch.org/event/sunday-service/2028-12-17/
LOCATION:TMC\, 7400 Cordova Club Dr E
END:VEVENT
BEGIN:VEVENT
DTSTART;TZID=UTC:20281221T140000
DTEND;TZID=UTC:20281221T160000
DTSTAMP:20260419T212807
CREATED:20260127T041725Z
LAST-MODIFIED:20260127T041725Z
UID:10000649-1861020000-1861027200@thememphischurch.org
SUMMARY:TMC Food/Clothes Pantry (Foyer/Sanctuary/Southside)
DESCRIPTION:Contact Jorie at thechurchfoodpantry@gmail.com or at 901-509-3871 option 4
URL:https://thememphischurch.org/event/tmc-food-clothes-pantry-foyer-sanctuary-southside-2/2028-12-21/
END:VEVENT
BEGIN:VEVENT
DTSTART;TZID=UTC:20281224T103000
DTEND;TZID=UTC:20281224T120000
DTSTAMP:20260419T212807
CREATED:20251107T041130Z
LAST-MODIFIED:20251107T041130Z
UID:10000315-1861266600-1861272000@thememphischurch.org
SUMMARY:Sunday Service
DESCRIPTION:7400 Cordova Club Dr E \nCordova\, TN 38018 \nhttps://www.youtube.com/@thememphischurch296 \n 
URL:https://thememphischurch.org/event/sunday-service/2028-12-24/
LOCATION:TMC\, 7400 Cordova Club Dr E
END:VEVENT
BEGIN:VEVENT
DTSTART;TZID=UTC:20281228T140000
DTEND;TZID=UTC:20281228T160000
DTSTAMP:20260419T212807
CREATED:20260127T041725Z
LAST-MODIFIED:20260127T041725Z
UID:10000650-1861624800-1861632000@thememphischurch.org
SUMMARY:TMC Food/Clothes Pantry (Foyer/Sanctuary/Southside)
DESCRIPTION:Contact Jorie at thechurchfoodpantry@gmail.com or at 901-509-3871 option 4
URL:https://thememphischurch.org/event/tmc-food-clothes-pantry-foyer-sanctuary-southside-2/2028-12-28/
END:VEVENT
BEGIN:VEVENT
DTSTART;TZID=UTC:20281231T103000
DTEND;TZID=UTC:20281231T120000
DTSTAMP:20260419T212807
CREATED:20251107T041130Z
LAST-MODIFIED:20251107T041130Z
UID:10000316-1861871400-1861876800@thememphischurch.org
SUMMARY:Sunday Service
DESCRIPTION:7400 Cordova Club Dr E \nCordova\, TN 38018 \nhttps://www.youtube.com/@thememphischurch296 \n 
URL:https://thememphischurch.org/event/sunday-service/2028-12-31/
LOCATION:TMC\, 7400 Cordova Club Dr E
END:VEVENT
END:VCALENDAR