BEGIN:VCALENDAR
VERSION:2.0
PRODID:-//The Memphis Church - ECPv6.15.17//NONSGML v1.0//EN
CALSCALE:GREGORIAN
METHOD:PUBLISH
X-WR-CALNAME:The Memphis Church
X-ORIGINAL-URL:https://thememphischurch.org
X-WR-CALDESC:Events for The Memphis Church
REFRESH-INTERVAL;VALUE=DURATION:PT1H
X-Robots-Tag:noindex
X-PUBLISHED-TTL:PT1H
BEGIN:VTIMEZONE
TZID:UTC
BEGIN:STANDARD
TZOFFSETFROM:+0000
TZOFFSETTO:+0000
TZNAME:UTC
DTSTART:20280101T000000
END:STANDARD
END:VTIMEZONE
BEGIN:VEVENT
DTSTART;TZID=UTC:20290104T140000
DTEND;TZID=UTC:20290104T160000
DTSTAMP:20260419T194753
CREATED:20260127T041725Z
LAST-MODIFIED:20260127T041725Z
UID:10000651-1862229600-1862236800@thememphischurch.org
SUMMARY:TMC Food/Clothes Pantry (Foyer/Sanctuary/Southside)
DESCRIPTION:Contact Jorie at thechurchfoodpantry@gmail.com or at 901-509-3871 option 4
URL:https://thememphischurch.org/event/tmc-food-clothes-pantry-foyer-sanctuary-southside-2/2029-01-04/
END:VEVENT
BEGIN:VEVENT
DTSTART;TZID=UTC:20290106T100000
DTEND;TZID=UTC:20290106T113000
DTSTAMP:20260419T194753
CREATED:20260127T042707Z
LAST-MODIFIED:20260127T042707Z
UID:10000794-1862388000-1862393400@thememphischurch.org
SUMMARY:Men's Bible Discussion (Small Classroom)
DESCRIPTION:Contact Mike Davis (cell 901-340-4129) or Kelbert Fagan (cell 901-314-0690)
URL:https://thememphischurch.org/event/mens-bible-discussion-small-classroom/2029-01-06/
END:VEVENT
BEGIN:VEVENT
DTSTART;TZID=UTC:20290106T100000
DTEND;TZID=UTC:20290106T120000
DTSTAMP:20260419T194753
CREATED:20260127T041220Z
LAST-MODIFIED:20260127T041220Z
UID:10000474-1862388000-1862395200@thememphischurch.org
SUMMARY:TMC Food/Clothes Pantry (Foyer/Sanctuary/Southside)
DESCRIPTION:Contact Jorie at thechurchfoodpantry@gmail.com or at 901-509-3871 option 4
URL:https://thememphischurch.org/event/tmc-food-clothes-pantry-foyer-sanctuary-southside/2029-01-06/
END:VEVENT
BEGIN:VEVENT
DTSTART;TZID=UTC:20290107T103000
DTEND;TZID=UTC:20290107T120000
DTSTAMP:20260419T194753
CREATED:20251107T041130Z
LAST-MODIFIED:20251107T041130Z
UID:10000317-1862476200-1862481600@thememphischurch.org
SUMMARY:Sunday Service
DESCRIPTION:7400 Cordova Club Dr E \nCordova\, TN 38018 \nhttps://www.youtube.com/@thememphischurch296 \n 
URL:https://thememphischurch.org/event/sunday-service/2029-01-07/
LOCATION:TMC\, 7400 Cordova Club Dr E
END:VEVENT
BEGIN:VEVENT
DTSTART;TZID=UTC:20290111T140000
DTEND;TZID=UTC:20290111T160000
DTSTAMP:20260419T194753
CREATED:20260127T041725Z
LAST-MODIFIED:20260127T041725Z
UID:10000652-1862834400-1862841600@thememphischurch.org
SUMMARY:TMC Food/Clothes Pantry (Foyer/Sanctuary/Southside)
DESCRIPTION:Contact Jorie at thechurchfoodpantry@gmail.com or at 901-509-3871 option 4
URL:https://thememphischurch.org/event/tmc-food-clothes-pantry-foyer-sanctuary-southside-2/2029-01-11/
END:VEVENT
BEGIN:VEVENT
DTSTART;TZID=UTC:20290114T103000
DTEND;TZID=UTC:20290114T120000
DTSTAMP:20260419T194753
CREATED:20251107T041130Z
LAST-MODIFIED:20251107T041130Z
UID:10000318-1863081000-1863086400@thememphischurch.org
SUMMARY:Sunday Service
DESCRIPTION:7400 Cordova Club Dr E \nCordova\, TN 38018 \nhttps://www.youtube.com/@thememphischurch296 \n 
URL:https://thememphischurch.org/event/sunday-service/2029-01-14/
LOCATION:TMC\, 7400 Cordova Club Dr E
END:VEVENT
BEGIN:VEVENT
DTSTART;TZID=UTC:20290118T140000
DTEND;TZID=UTC:20290118T160000
DTSTAMP:20260419T194753
CREATED:20260127T041725Z
LAST-MODIFIED:20260127T041725Z
UID:10000653-1863439200-1863446400@thememphischurch.org
SUMMARY:TMC Food/Clothes Pantry (Foyer/Sanctuary/Southside)
DESCRIPTION:Contact Jorie at thechurchfoodpantry@gmail.com or at 901-509-3871 option 4
URL:https://thememphischurch.org/event/tmc-food-clothes-pantry-foyer-sanctuary-southside-2/2029-01-18/
END:VEVENT
BEGIN:VEVENT
DTSTART;TZID=UTC:20290121T103000
DTEND;TZID=UTC:20290121T120000
DTSTAMP:20260419T194753
CREATED:20251107T041130Z
LAST-MODIFIED:20251107T041130Z
UID:10000319-1863685800-1863691200@thememphischurch.org
SUMMARY:Sunday Service
DESCRIPTION:7400 Cordova Club Dr E \nCordova\, TN 38018 \nhttps://www.youtube.com/@thememphischurch296 \n 
URL:https://thememphischurch.org/event/sunday-service/2029-01-21/
LOCATION:TMC\, 7400 Cordova Club Dr E
END:VEVENT
BEGIN:VEVENT
DTSTART;TZID=UTC:20290125T140000
DTEND;TZID=UTC:20290125T160000
DTSTAMP:20260419T194753
CREATED:20260127T041725Z
LAST-MODIFIED:20260127T041725Z
UID:10000654-1864044000-1864051200@thememphischurch.org
SUMMARY:TMC Food/Clothes Pantry (Foyer/Sanctuary/Southside)
DESCRIPTION:Contact Jorie at thechurchfoodpantry@gmail.com or at 901-509-3871 option 4
URL:https://thememphischurch.org/event/tmc-food-clothes-pantry-foyer-sanctuary-southside-2/2029-01-25/
END:VEVENT
BEGIN:VEVENT
DTSTART;TZID=UTC:20290128T103000
DTEND;TZID=UTC:20290128T120000
DTSTAMP:20260419T194753
CREATED:20251107T041130Z
LAST-MODIFIED:20251107T041130Z
UID:10000320-1864290600-1864296000@thememphischurch.org
SUMMARY:Sunday Service
DESCRIPTION:7400 Cordova Club Dr E \nCordova\, TN 38018 \nhttps://www.youtube.com/@thememphischurch296 \n 
URL:https://thememphischurch.org/event/sunday-service/2029-01-28/
LOCATION:TMC\, 7400 Cordova Club Dr E
END:VEVENT
END:VCALENDAR