BEGIN:VCALENDAR
VERSION:2.0
PRODID:-//The Memphis Church - ECPv6.15.17//NONSGML v1.0//EN
CALSCALE:GREGORIAN
METHOD:PUBLISH
X-WR-CALNAME:The Memphis Church
X-ORIGINAL-URL:https://thememphischurch.org
X-WR-CALDESC:Events for The Memphis Church
REFRESH-INTERVAL;VALUE=DURATION:PT1H
X-Robots-Tag:noindex
X-PUBLISHED-TTL:PT1H
BEGIN:VTIMEZONE
TZID:UTC
BEGIN:STANDARD
TZOFFSETFROM:+0000
TZOFFSETTO:+0000
TZNAME:UTC
DTSTART:20280101T000000
END:STANDARD
END:VTIMEZONE
BEGIN:VEVENT
DTSTART;TZID=UTC:20290201T140000
DTEND;TZID=UTC:20290201T160000
DTSTAMP:20260419T212850
CREATED:20260127T041725Z
LAST-MODIFIED:20260127T041725Z
UID:10000655-1864648800-1864656000@thememphischurch.org
SUMMARY:TMC Food/Clothes Pantry (Foyer/Sanctuary/Southside)
DESCRIPTION:Contact Jorie at thechurchfoodpantry@gmail.com or at 901-509-3871 option 4
URL:https://thememphischurch.org/event/tmc-food-clothes-pantry-foyer-sanctuary-southside-2/2029-02-01/
END:VEVENT
BEGIN:VEVENT
DTSTART;TZID=UTC:20290203T100000
DTEND;TZID=UTC:20290203T113000
DTSTAMP:20260419T212850
CREATED:20260127T042707Z
LAST-MODIFIED:20260127T042707Z
UID:10000795-1864807200-1864812600@thememphischurch.org
SUMMARY:Men's Bible Discussion (Small Classroom)
DESCRIPTION:Contact Mike Davis (cell 901-340-4129) or Kelbert Fagan (cell 901-314-0690)
URL:https://thememphischurch.org/event/mens-bible-discussion-small-classroom/2029-02-03/
END:VEVENT
BEGIN:VEVENT
DTSTART;TZID=UTC:20290203T100000
DTEND;TZID=UTC:20290203T120000
DTSTAMP:20260419T212850
CREATED:20260127T041220Z
LAST-MODIFIED:20260127T041220Z
UID:10000475-1864807200-1864814400@thememphischurch.org
SUMMARY:TMC Food/Clothes Pantry (Foyer/Sanctuary/Southside)
DESCRIPTION:Contact Jorie at thechurchfoodpantry@gmail.com or at 901-509-3871 option 4
URL:https://thememphischurch.org/event/tmc-food-clothes-pantry-foyer-sanctuary-southside/2029-02-03/
END:VEVENT
BEGIN:VEVENT
DTSTART;TZID=UTC:20290204T103000
DTEND;TZID=UTC:20290204T120000
DTSTAMP:20260419T212850
CREATED:20251107T041130Z
LAST-MODIFIED:20251107T041130Z
UID:10000321-1864895400-1864900800@thememphischurch.org
SUMMARY:Sunday Service
DESCRIPTION:7400 Cordova Club Dr E \nCordova\, TN 38018 \nhttps://www.youtube.com/@thememphischurch296 \n 
URL:https://thememphischurch.org/event/sunday-service/2029-02-04/
LOCATION:TMC\, 7400 Cordova Club Dr E
END:VEVENT
BEGIN:VEVENT
DTSTART;TZID=UTC:20290208T140000
DTEND;TZID=UTC:20290208T160000
DTSTAMP:20260419T212850
CREATED:20260127T041725Z
LAST-MODIFIED:20260127T041725Z
UID:10000656-1865253600-1865260800@thememphischurch.org
SUMMARY:TMC Food/Clothes Pantry (Foyer/Sanctuary/Southside)
DESCRIPTION:Contact Jorie at thechurchfoodpantry@gmail.com or at 901-509-3871 option 4
URL:https://thememphischurch.org/event/tmc-food-clothes-pantry-foyer-sanctuary-southside-2/2029-02-08/
END:VEVENT
BEGIN:VEVENT
DTSTART;TZID=UTC:20290211T103000
DTEND;TZID=UTC:20290211T120000
DTSTAMP:20260419T212850
CREATED:20251107T041130Z
LAST-MODIFIED:20251107T041130Z
UID:10000322-1865500200-1865505600@thememphischurch.org
SUMMARY:Sunday Service
DESCRIPTION:7400 Cordova Club Dr E \nCordova\, TN 38018 \nhttps://www.youtube.com/@thememphischurch296 \n 
URL:https://thememphischurch.org/event/sunday-service/2029-02-11/
LOCATION:TMC\, 7400 Cordova Club Dr E
END:VEVENT
BEGIN:VEVENT
DTSTART;TZID=UTC:20290215T140000
DTEND;TZID=UTC:20290215T160000
DTSTAMP:20260419T212850
CREATED:20260127T041725Z
LAST-MODIFIED:20260127T041725Z
UID:10000657-1865858400-1865865600@thememphischurch.org
SUMMARY:TMC Food/Clothes Pantry (Foyer/Sanctuary/Southside)
DESCRIPTION:Contact Jorie at thechurchfoodpantry@gmail.com or at 901-509-3871 option 4
URL:https://thememphischurch.org/event/tmc-food-clothes-pantry-foyer-sanctuary-southside-2/2029-02-15/
END:VEVENT
BEGIN:VEVENT
DTSTART;TZID=UTC:20290218T103000
DTEND;TZID=UTC:20290218T120000
DTSTAMP:20260419T212850
CREATED:20251107T041130Z
LAST-MODIFIED:20251107T041130Z
UID:10000323-1866105000-1866110400@thememphischurch.org
SUMMARY:Sunday Service
DESCRIPTION:7400 Cordova Club Dr E \nCordova\, TN 38018 \nhttps://www.youtube.com/@thememphischurch296 \n 
URL:https://thememphischurch.org/event/sunday-service/2029-02-18/
LOCATION:TMC\, 7400 Cordova Club Dr E
END:VEVENT
BEGIN:VEVENT
DTSTART;TZID=UTC:20290222T140000
DTEND;TZID=UTC:20290222T160000
DTSTAMP:20260419T212850
CREATED:20260127T041725Z
LAST-MODIFIED:20260127T041725Z
UID:10000658-1866463200-1866470400@thememphischurch.org
SUMMARY:TMC Food/Clothes Pantry (Foyer/Sanctuary/Southside)
DESCRIPTION:Contact Jorie at thechurchfoodpantry@gmail.com or at 901-509-3871 option 4
URL:https://thememphischurch.org/event/tmc-food-clothes-pantry-foyer-sanctuary-southside-2/2029-02-22/
END:VEVENT
BEGIN:VEVENT
DTSTART;TZID=UTC:20290225T103000
DTEND;TZID=UTC:20290225T120000
DTSTAMP:20260419T212850
CREATED:20251107T041130Z
LAST-MODIFIED:20251107T041130Z
UID:10000324-1866709800-1866715200@thememphischurch.org
SUMMARY:Sunday Service
DESCRIPTION:7400 Cordova Club Dr E \nCordova\, TN 38018 \nhttps://www.youtube.com/@thememphischurch296 \n 
URL:https://thememphischurch.org/event/sunday-service/2029-02-25/
LOCATION:TMC\, 7400 Cordova Club Dr E
END:VEVENT
END:VCALENDAR