BEGIN:VCALENDAR
VERSION:2.0
PRODID:-//The Memphis Church - ECPv6.15.17//NONSGML v1.0//EN
CALSCALE:GREGORIAN
METHOD:PUBLISH
X-ORIGINAL-URL:https://thememphischurch.org
X-WR-CALDESC:Events for The Memphis Church
REFRESH-INTERVAL;VALUE=DURATION:PT1H
X-Robots-Tag:noindex
X-PUBLISHED-TTL:PT1H
BEGIN:VTIMEZONE
TZID:UTC
BEGIN:STANDARD
TZOFFSETFROM:+0000
TZOFFSETTO:+0000
TZNAME:UTC
DTSTART:20280101T000000
END:STANDARD
END:VTIMEZONE
BEGIN:VEVENT
DTSTART;TZID=UTC:20290401T103000
DTEND;TZID=UTC:20290401T120000
DTSTAMP:20260420T041931
CREATED:20251107T041130Z
LAST-MODIFIED:20251107T041130Z
UID:10000329-1869733800-1869739200@thememphischurch.org
SUMMARY:Sunday Service
DESCRIPTION:7400 Cordova Club Dr E \nCordova\, TN 38018 \nhttps://www.youtube.com/@thememphischurch296 \n 
URL:https://thememphischurch.org/event/sunday-service/2029-04-01/
LOCATION:TMC\, 7400 Cordova Club Dr E
END:VEVENT
BEGIN:VEVENT
DTSTART;TZID=UTC:20290405T140000
DTEND;TZID=UTC:20290405T160000
DTSTAMP:20260420T041931
CREATED:20260127T041725Z
LAST-MODIFIED:20260127T041725Z
UID:10000664-1870092000-1870099200@thememphischurch.org
SUMMARY:TMC Food/Clothes Pantry (Foyer/Sanctuary/Southside)
DESCRIPTION:Contact Jorie at thechurchfoodpantry@gmail.com or at 901-509-3871 option 4
URL:https://thememphischurch.org/event/tmc-food-clothes-pantry-foyer-sanctuary-southside-2/2029-04-05/
END:VEVENT
BEGIN:VEVENT
DTSTART;TZID=UTC:20290407T100000
DTEND;TZID=UTC:20290407T113000
DTSTAMP:20260420T041931
CREATED:20260127T042707Z
LAST-MODIFIED:20260127T042707Z
UID:10000797-1870250400-1870255800@thememphischurch.org
SUMMARY:Men's Bible Discussion (Small Classroom)
DESCRIPTION:Contact Mike Davis (cell 901-340-4129) or Kelbert Fagan (cell 901-314-0690)
URL:https://thememphischurch.org/event/mens-bible-discussion-small-classroom/2029-04-07/
END:VEVENT
BEGIN:VEVENT
DTSTART;TZID=UTC:20290407T100000
DTEND;TZID=UTC:20290407T120000
DTSTAMP:20260420T041931
CREATED:20260127T041220Z
LAST-MODIFIED:20260127T041220Z
UID:10000477-1870250400-1870257600@thememphischurch.org
SUMMARY:TMC Food/Clothes Pantry (Foyer/Sanctuary/Southside)
DESCRIPTION:Contact Jorie at thechurchfoodpantry@gmail.com or at 901-509-3871 option 4
URL:https://thememphischurch.org/event/tmc-food-clothes-pantry-foyer-sanctuary-southside/2029-04-07/
END:VEVENT
BEGIN:VEVENT
DTSTART;TZID=UTC:20290408T103000
DTEND;TZID=UTC:20290408T120000
DTSTAMP:20260420T041931
CREATED:20251107T041130Z
LAST-MODIFIED:20251107T041130Z
UID:10000330-1870338600-1870344000@thememphischurch.org
SUMMARY:Sunday Service
DESCRIPTION:7400 Cordova Club Dr E \nCordova\, TN 38018 \nhttps://www.youtube.com/@thememphischurch296 \n 
URL:https://thememphischurch.org/event/sunday-service/2029-04-08/
LOCATION:TMC\, 7400 Cordova Club Dr E
END:VEVENT
BEGIN:VEVENT
DTSTART;TZID=UTC:20290412T140000
DTEND;TZID=UTC:20290412T160000
DTSTAMP:20260420T041931
CREATED:20260127T041725Z
LAST-MODIFIED:20260127T041725Z
UID:10000665-1870696800-1870704000@thememphischurch.org
SUMMARY:TMC Food/Clothes Pantry (Foyer/Sanctuary/Southside)
DESCRIPTION:Contact Jorie at thechurchfoodpantry@gmail.com or at 901-509-3871 option 4
URL:https://thememphischurch.org/event/tmc-food-clothes-pantry-foyer-sanctuary-southside-2/2029-04-12/
END:VEVENT
BEGIN:VEVENT
DTSTART;TZID=UTC:20290415T103000
DTEND;TZID=UTC:20290415T120000
DTSTAMP:20260420T041931
CREATED:20251107T041130Z
LAST-MODIFIED:20251107T041130Z
UID:10000331-1870943400-1870948800@thememphischurch.org
SUMMARY:Sunday Service
DESCRIPTION:7400 Cordova Club Dr E \nCordova\, TN 38018 \nhttps://www.youtube.com/@thememphischurch296 \n 
URL:https://thememphischurch.org/event/sunday-service/2029-04-15/
LOCATION:TMC\, 7400 Cordova Club Dr E
END:VEVENT
BEGIN:VEVENT
DTSTART;TZID=UTC:20290419T140000
DTEND;TZID=UTC:20290419T160000
DTSTAMP:20260420T041931
CREATED:20260127T041725Z
LAST-MODIFIED:20260127T041725Z
UID:10000666-1871301600-1871308800@thememphischurch.org
SUMMARY:TMC Food/Clothes Pantry (Foyer/Sanctuary/Southside)
DESCRIPTION:Contact Jorie at thechurchfoodpantry@gmail.com or at 901-509-3871 option 4
URL:https://thememphischurch.org/event/tmc-food-clothes-pantry-foyer-sanctuary-southside-2/2029-04-19/
END:VEVENT
BEGIN:VEVENT
DTSTART;TZID=UTC:20290422T103000
DTEND;TZID=UTC:20290422T120000
DTSTAMP:20260420T041931
CREATED:20251107T041130Z
LAST-MODIFIED:20251107T041130Z
UID:10000332-1871548200-1871553600@thememphischurch.org
SUMMARY:Sunday Service
DESCRIPTION:7400 Cordova Club Dr E \nCordova\, TN 38018 \nhttps://www.youtube.com/@thememphischurch296 \n 
URL:https://thememphischurch.org/event/sunday-service/2029-04-22/
LOCATION:TMC\, 7400 Cordova Club Dr E
END:VEVENT
BEGIN:VEVENT
DTSTART;TZID=UTC:20290426T140000
DTEND;TZID=UTC:20290426T160000
DTSTAMP:20260420T041931
CREATED:20260127T041725Z
LAST-MODIFIED:20260127T041725Z
UID:10000667-1871906400-1871913600@thememphischurch.org
SUMMARY:TMC Food/Clothes Pantry (Foyer/Sanctuary/Southside)
DESCRIPTION:Contact Jorie at thechurchfoodpantry@gmail.com or at 901-509-3871 option 4
URL:https://thememphischurch.org/event/tmc-food-clothes-pantry-foyer-sanctuary-southside-2/2029-04-26/
END:VEVENT
BEGIN:VEVENT
DTSTART;TZID=UTC:20290429T103000
DTEND;TZID=UTC:20290429T120000
DTSTAMP:20260420T041931
CREATED:20251107T041130Z
LAST-MODIFIED:20251107T041130Z
UID:10000333-1872153000-1872158400@thememphischurch.org
SUMMARY:Sunday Service
DESCRIPTION:7400 Cordova Club Dr E \nCordova\, TN 38018 \nhttps://www.youtube.com/@thememphischurch296 \n 
URL:https://thememphischurch.org/event/sunday-service/2029-04-29/
LOCATION:TMC\, 7400 Cordova Club Dr E
END:VEVENT
END:VCALENDAR