BEGIN:VCALENDAR
VERSION:2.0
PRODID:-//The Memphis Church - ECPv6.15.17//NONSGML v1.0//EN
CALSCALE:GREGORIAN
METHOD:PUBLISH
X-WR-CALNAME:The Memphis Church
X-ORIGINAL-URL:https://thememphischurch.org
X-WR-CALDESC:Events for The Memphis Church
REFRESH-INTERVAL;VALUE=DURATION:PT1H
X-Robots-Tag:noindex
X-PUBLISHED-TTL:PT1H
BEGIN:VTIMEZONE
TZID:UTC
BEGIN:STANDARD
TZOFFSETFROM:+0000
TZOFFSETTO:+0000
TZNAME:UTC
DTSTART:20280101T000000
END:STANDARD
END:VTIMEZONE
BEGIN:VEVENT
DTSTART;TZID=UTC:20290602T100000
DTEND;TZID=UTC:20290602T113000
DTSTAMP:20260420T171033
CREATED:20260127T042707Z
LAST-MODIFIED:20260127T042707Z
UID:10000799-1875088800-1875094200@thememphischurch.org
SUMMARY:Men's Bible Discussion (Small Classroom)
DESCRIPTION:Contact Mike Davis (cell 901-340-4129) or Kelbert Fagan (cell 901-314-0690)
URL:https://thememphischurch.org/event/mens-bible-discussion-small-classroom/2029-06-02/
END:VEVENT
BEGIN:VEVENT
DTSTART;TZID=UTC:20290602T100000
DTEND;TZID=UTC:20290602T120000
DTSTAMP:20260420T171033
CREATED:20260127T041220Z
LAST-MODIFIED:20260127T041220Z
UID:10000479-1875088800-1875096000@thememphischurch.org
SUMMARY:TMC Food/Clothes Pantry (Foyer/Sanctuary/Southside)
DESCRIPTION:Contact Jorie at thechurchfoodpantry@gmail.com or at 901-509-3871 option 4
URL:https://thememphischurch.org/event/tmc-food-clothes-pantry-foyer-sanctuary-southside/2029-06-02/
END:VEVENT
BEGIN:VEVENT
DTSTART;TZID=UTC:20290603T103000
DTEND;TZID=UTC:20290603T120000
DTSTAMP:20260420T171033
CREATED:20251107T041130Z
LAST-MODIFIED:20251107T041130Z
UID:10000338-1875177000-1875182400@thememphischurch.org
SUMMARY:Sunday Service
DESCRIPTION:7400 Cordova Club Dr E \nCordova\, TN 38018 \nhttps://www.youtube.com/@thememphischurch296 \n 
URL:https://thememphischurch.org/event/sunday-service/2029-06-03/
LOCATION:TMC\, 7400 Cordova Club Dr E
END:VEVENT
BEGIN:VEVENT
DTSTART;TZID=UTC:20290607T140000
DTEND;TZID=UTC:20290607T160000
DTSTAMP:20260420T171033
CREATED:20260127T041725Z
LAST-MODIFIED:20260127T041725Z
UID:10000673-1875535200-1875542400@thememphischurch.org
SUMMARY:TMC Food/Clothes Pantry (Foyer/Sanctuary/Southside)
DESCRIPTION:Contact Jorie at thechurchfoodpantry@gmail.com or at 901-509-3871 option 4
URL:https://thememphischurch.org/event/tmc-food-clothes-pantry-foyer-sanctuary-southside-2/2029-06-07/
END:VEVENT
BEGIN:VEVENT
DTSTART;TZID=UTC:20290610T103000
DTEND;TZID=UTC:20290610T120000
DTSTAMP:20260420T171033
CREATED:20251107T041130Z
LAST-MODIFIED:20251107T041130Z
UID:10000339-1875781800-1875787200@thememphischurch.org
SUMMARY:Sunday Service
DESCRIPTION:7400 Cordova Club Dr E \nCordova\, TN 38018 \nhttps://www.youtube.com/@thememphischurch296 \n 
URL:https://thememphischurch.org/event/sunday-service/2029-06-10/
LOCATION:TMC\, 7400 Cordova Club Dr E
END:VEVENT
BEGIN:VEVENT
DTSTART;TZID=UTC:20290614T140000
DTEND;TZID=UTC:20290614T160000
DTSTAMP:20260420T171033
CREATED:20260127T041725Z
LAST-MODIFIED:20260127T041725Z
UID:10000674-1876140000-1876147200@thememphischurch.org
SUMMARY:TMC Food/Clothes Pantry (Foyer/Sanctuary/Southside)
DESCRIPTION:Contact Jorie at thechurchfoodpantry@gmail.com or at 901-509-3871 option 4
URL:https://thememphischurch.org/event/tmc-food-clothes-pantry-foyer-sanctuary-southside-2/2029-06-14/
END:VEVENT
BEGIN:VEVENT
DTSTART;TZID=UTC:20290617T103000
DTEND;TZID=UTC:20290617T120000
DTSTAMP:20260420T171033
CREATED:20251107T041130Z
LAST-MODIFIED:20251107T041130Z
UID:10000340-1876386600-1876392000@thememphischurch.org
SUMMARY:Sunday Service
DESCRIPTION:7400 Cordova Club Dr E \nCordova\, TN 38018 \nhttps://www.youtube.com/@thememphischurch296 \n 
URL:https://thememphischurch.org/event/sunday-service/2029-06-17/
LOCATION:TMC\, 7400 Cordova Club Dr E
END:VEVENT
BEGIN:VEVENT
DTSTART;TZID=UTC:20290621T140000
DTEND;TZID=UTC:20290621T160000
DTSTAMP:20260420T171033
CREATED:20260127T041725Z
LAST-MODIFIED:20260127T041725Z
UID:10000675-1876744800-1876752000@thememphischurch.org
SUMMARY:TMC Food/Clothes Pantry (Foyer/Sanctuary/Southside)
DESCRIPTION:Contact Jorie at thechurchfoodpantry@gmail.com or at 901-509-3871 option 4
URL:https://thememphischurch.org/event/tmc-food-clothes-pantry-foyer-sanctuary-southside-2/2029-06-21/
END:VEVENT
BEGIN:VEVENT
DTSTART;TZID=UTC:20290624T103000
DTEND;TZID=UTC:20290624T120000
DTSTAMP:20260420T171033
CREATED:20251107T041130Z
LAST-MODIFIED:20251107T041130Z
UID:10000341-1876991400-1876996800@thememphischurch.org
SUMMARY:Sunday Service
DESCRIPTION:7400 Cordova Club Dr E \nCordova\, TN 38018 \nhttps://www.youtube.com/@thememphischurch296 \n 
URL:https://thememphischurch.org/event/sunday-service/2029-06-24/
LOCATION:TMC\, 7400 Cordova Club Dr E
END:VEVENT
BEGIN:VEVENT
DTSTART;TZID=UTC:20290628T140000
DTEND;TZID=UTC:20290628T160000
DTSTAMP:20260420T171033
CREATED:20260127T041725Z
LAST-MODIFIED:20260127T041725Z
UID:10000676-1877349600-1877356800@thememphischurch.org
SUMMARY:TMC Food/Clothes Pantry (Foyer/Sanctuary/Southside)
DESCRIPTION:Contact Jorie at thechurchfoodpantry@gmail.com or at 901-509-3871 option 4
URL:https://thememphischurch.org/event/tmc-food-clothes-pantry-foyer-sanctuary-southside-2/2029-06-28/
END:VEVENT
END:VCALENDAR