BEGIN:VCALENDAR
VERSION:2.0
PRODID:-//The Memphis Church - ECPv6.15.17//NONSGML v1.0//EN
CALSCALE:GREGORIAN
METHOD:PUBLISH
X-WR-CALNAME:The Memphis Church
X-ORIGINAL-URL:https://thememphischurch.org
X-WR-CALDESC:Events for The Memphis Church
REFRESH-INTERVAL;VALUE=DURATION:PT1H
X-Robots-Tag:noindex
X-PUBLISHED-TTL:PT1H
BEGIN:VTIMEZONE
TZID:UTC
BEGIN:STANDARD
TZOFFSETFROM:+0000
TZOFFSETTO:+0000
TZNAME:UTC
DTSTART:20290101T000000
END:STANDARD
END:VTIMEZONE
BEGIN:VEVENT
DTSTART;TZID=UTC:20300202T100000
DTEND;TZID=UTC:20300202T113000
DTSTAMP:20260422T094434
CREATED:20260127T042707Z
LAST-MODIFIED:20260127T042707Z
UID:10000807-1896256800-1896262200@thememphischurch.org
SUMMARY:Men's Bible Discussion (Small Classroom)
DESCRIPTION:Contact Mike Davis (cell 901-340-4129) or Kelbert Fagan (cell 901-314-0690)
URL:https://thememphischurch.org/event/mens-bible-discussion-small-classroom/2030-02-02/
END:VEVENT
BEGIN:VEVENT
DTSTART;TZID=UTC:20300202T100000
DTEND;TZID=UTC:20300202T120000
DTSTAMP:20260422T094434
CREATED:20260127T041220Z
LAST-MODIFIED:20260127T041220Z
UID:10000487-1896256800-1896264000@thememphischurch.org
SUMMARY:TMC Food/Clothes Pantry (Foyer/Sanctuary/Southside)
DESCRIPTION:Contact Jorie at thechurchfoodpantry@gmail.com or at 901-509-3871 option 4
URL:https://thememphischurch.org/event/tmc-food-clothes-pantry-foyer-sanctuary-southside/2030-02-02/
END:VEVENT
BEGIN:VEVENT
DTSTART;TZID=UTC:20300203T103000
DTEND;TZID=UTC:20300203T120000
DTSTAMP:20260422T094434
CREATED:20251107T041130Z
LAST-MODIFIED:20251107T041130Z
UID:10000373-1896345000-1896350400@thememphischurch.org
SUMMARY:Sunday Service
DESCRIPTION:7400 Cordova Club Dr E \nCordova\, TN 38018 \nhttps://www.youtube.com/@thememphischurch296 \n 
URL:https://thememphischurch.org/event/sunday-service/2030-02-03/
LOCATION:TMC\, 7400 Cordova Club Dr E
END:VEVENT
BEGIN:VEVENT
DTSTART;TZID=UTC:20300207T140000
DTEND;TZID=UTC:20300207T160000
DTSTAMP:20260422T094434
CREATED:20260127T041725Z
LAST-MODIFIED:20260127T041725Z
UID:10000708-1896703200-1896710400@thememphischurch.org
SUMMARY:TMC Food/Clothes Pantry (Foyer/Sanctuary/Southside)
DESCRIPTION:Contact Jorie at thechurchfoodpantry@gmail.com or at 901-509-3871 option 4
URL:https://thememphischurch.org/event/tmc-food-clothes-pantry-foyer-sanctuary-southside-2/2030-02-07/
END:VEVENT
BEGIN:VEVENT
DTSTART;TZID=UTC:20300210T103000
DTEND;TZID=UTC:20300210T120000
DTSTAMP:20260422T094434
CREATED:20251107T041130Z
LAST-MODIFIED:20251107T041130Z
UID:10000374-1896949800-1896955200@thememphischurch.org
SUMMARY:Sunday Service
DESCRIPTION:7400 Cordova Club Dr E \nCordova\, TN 38018 \nhttps://www.youtube.com/@thememphischurch296 \n 
URL:https://thememphischurch.org/event/sunday-service/2030-02-10/
LOCATION:TMC\, 7400 Cordova Club Dr E
END:VEVENT
BEGIN:VEVENT
DTSTART;TZID=UTC:20300214T140000
DTEND;TZID=UTC:20300214T160000
DTSTAMP:20260422T094434
CREATED:20260127T041725Z
LAST-MODIFIED:20260127T041725Z
UID:10000709-1897308000-1897315200@thememphischurch.org
SUMMARY:TMC Food/Clothes Pantry (Foyer/Sanctuary/Southside)
DESCRIPTION:Contact Jorie at thechurchfoodpantry@gmail.com or at 901-509-3871 option 4
URL:https://thememphischurch.org/event/tmc-food-clothes-pantry-foyer-sanctuary-southside-2/2030-02-14/
END:VEVENT
BEGIN:VEVENT
DTSTART;TZID=UTC:20300217T103000
DTEND;TZID=UTC:20300217T120000
DTSTAMP:20260422T094434
CREATED:20251107T041130Z
LAST-MODIFIED:20251107T041130Z
UID:10000375-1897554600-1897560000@thememphischurch.org
SUMMARY:Sunday Service
DESCRIPTION:7400 Cordova Club Dr E \nCordova\, TN 38018 \nhttps://www.youtube.com/@thememphischurch296 \n 
URL:https://thememphischurch.org/event/sunday-service/2030-02-17/
LOCATION:TMC\, 7400 Cordova Club Dr E
END:VEVENT
BEGIN:VEVENT
DTSTART;TZID=UTC:20300221T140000
DTEND;TZID=UTC:20300221T160000
DTSTAMP:20260422T094434
CREATED:20260127T041725Z
LAST-MODIFIED:20260127T041725Z
UID:10000710-1897912800-1897920000@thememphischurch.org
SUMMARY:TMC Food/Clothes Pantry (Foyer/Sanctuary/Southside)
DESCRIPTION:Contact Jorie at thechurchfoodpantry@gmail.com or at 901-509-3871 option 4
URL:https://thememphischurch.org/event/tmc-food-clothes-pantry-foyer-sanctuary-southside-2/2030-02-21/
END:VEVENT
BEGIN:VEVENT
DTSTART;TZID=UTC:20300224T103000
DTEND;TZID=UTC:20300224T120000
DTSTAMP:20260422T094434
CREATED:20251107T041130Z
LAST-MODIFIED:20251107T041130Z
UID:10000376-1898159400-1898164800@thememphischurch.org
SUMMARY:Sunday Service
DESCRIPTION:7400 Cordova Club Dr E \nCordova\, TN 38018 \nhttps://www.youtube.com/@thememphischurch296 \n 
URL:https://thememphischurch.org/event/sunday-service/2030-02-24/
LOCATION:TMC\, 7400 Cordova Club Dr E
END:VEVENT
BEGIN:VEVENT
DTSTART;TZID=UTC:20300228T140000
DTEND;TZID=UTC:20300228T160000
DTSTAMP:20260422T094434
CREATED:20260127T041725Z
LAST-MODIFIED:20260127T041725Z
UID:10000711-1898517600-1898524800@thememphischurch.org
SUMMARY:TMC Food/Clothes Pantry (Foyer/Sanctuary/Southside)
DESCRIPTION:Contact Jorie at thechurchfoodpantry@gmail.com or at 901-509-3871 option 4
URL:https://thememphischurch.org/event/tmc-food-clothes-pantry-foyer-sanctuary-southside-2/2030-02-28/
END:VEVENT
END:VCALENDAR