BEGIN:VCALENDAR
VERSION:2.0
PRODID:-//The Memphis Church - ECPv6.15.17//NONSGML v1.0//EN
CALSCALE:GREGORIAN
METHOD:PUBLISH
X-WR-CALNAME:The Memphis Church
X-ORIGINAL-URL:https://thememphischurch.org
X-WR-CALDESC:Events for The Memphis Church
REFRESH-INTERVAL;VALUE=DURATION:PT1H
X-Robots-Tag:noindex
X-PUBLISHED-TTL:PT1H
BEGIN:VTIMEZONE
TZID:UTC
BEGIN:STANDARD
TZOFFSETFROM:+0000
TZOFFSETTO:+0000
TZNAME:UTC
DTSTART:20280101T000000
END:STANDARD
END:VTIMEZONE
BEGIN:VEVENT
DTSTART;TZID=UTC:20291007T103000
DTEND;TZID=UTC:20291007T120000
DTSTAMP:20260421T042506
CREATED:20251107T041130Z
LAST-MODIFIED:20251107T041130Z
UID:10000356-1886063400-1886068800@thememphischurch.org
SUMMARY:Sunday Service
DESCRIPTION:7400 Cordova Club Dr E \nCordova\, TN 38018 \nhttps://www.youtube.com/@thememphischurch296 \n 
URL:https://thememphischurch.org/event/sunday-service/2029-10-07/
LOCATION:TMC\, 7400 Cordova Club Dr E
END:VEVENT
BEGIN:VEVENT
DTSTART;TZID=UTC:20291014T103000
DTEND;TZID=UTC:20291014T120000
DTSTAMP:20260421T042506
CREATED:20251107T041130Z
LAST-MODIFIED:20251107T041130Z
UID:10000357-1886668200-1886673600@thememphischurch.org
SUMMARY:Sunday Service
DESCRIPTION:7400 Cordova Club Dr E \nCordova\, TN 38018 \nhttps://www.youtube.com/@thememphischurch296 \n 
URL:https://thememphischurch.org/event/sunday-service/2029-10-14/
LOCATION:TMC\, 7400 Cordova Club Dr E
END:VEVENT
BEGIN:VEVENT
DTSTART;TZID=UTC:20291021T103000
DTEND;TZID=UTC:20291021T120000
DTSTAMP:20260421T042506
CREATED:20251107T041130Z
LAST-MODIFIED:20251107T041130Z
UID:10000358-1887273000-1887278400@thememphischurch.org
SUMMARY:Sunday Service
DESCRIPTION:7400 Cordova Club Dr E \nCordova\, TN 38018 \nhttps://www.youtube.com/@thememphischurch296 \n 
URL:https://thememphischurch.org/event/sunday-service/2029-10-21/
LOCATION:TMC\, 7400 Cordova Club Dr E
END:VEVENT
BEGIN:VEVENT
DTSTART;TZID=UTC:20291028T103000
DTEND;TZID=UTC:20291028T120000
DTSTAMP:20260421T042506
CREATED:20251107T041130Z
LAST-MODIFIED:20251107T041130Z
UID:10000359-1887877800-1887883200@thememphischurch.org
SUMMARY:Sunday Service
DESCRIPTION:7400 Cordova Club Dr E \nCordova\, TN 38018 \nhttps://www.youtube.com/@thememphischurch296 \n 
URL:https://thememphischurch.org/event/sunday-service/2029-10-28/
LOCATION:TMC\, 7400 Cordova Club Dr E
END:VEVENT
BEGIN:VEVENT
DTSTART;TZID=UTC:20291104T103000
DTEND;TZID=UTC:20291104T120000
DTSTAMP:20260421T042507
CREATED:20251107T041130Z
LAST-MODIFIED:20251107T041130Z
UID:10000360-1888482600-1888488000@thememphischurch.org
SUMMARY:Sunday Service
DESCRIPTION:7400 Cordova Club Dr E \nCordova\, TN 38018 \nhttps://www.youtube.com/@thememphischurch296 \n 
URL:https://thememphischurch.org/event/sunday-service/2029-11-04/
LOCATION:TMC\, 7400 Cordova Club Dr E
END:VEVENT
BEGIN:VEVENT
DTSTART;TZID=UTC:20291111T103000
DTEND;TZID=UTC:20291111T120000
DTSTAMP:20260421T042507
CREATED:20251107T041130Z
LAST-MODIFIED:20251107T041130Z
UID:10000361-1889087400-1889092800@thememphischurch.org
SUMMARY:Sunday Service
DESCRIPTION:7400 Cordova Club Dr E \nCordova\, TN 38018 \nhttps://www.youtube.com/@thememphischurch296 \n 
URL:https://thememphischurch.org/event/sunday-service/2029-11-11/
LOCATION:TMC\, 7400 Cordova Club Dr E
END:VEVENT
BEGIN:VEVENT
DTSTART;TZID=UTC:20291118T103000
DTEND;TZID=UTC:20291118T120000
DTSTAMP:20260421T042507
CREATED:20251107T041130Z
LAST-MODIFIED:20251107T041130Z
UID:10000362-1889692200-1889697600@thememphischurch.org
SUMMARY:Sunday Service
DESCRIPTION:7400 Cordova Club Dr E \nCordova\, TN 38018 \nhttps://www.youtube.com/@thememphischurch296 \n 
URL:https://thememphischurch.org/event/sunday-service/2029-11-18/
LOCATION:TMC\, 7400 Cordova Club Dr E
END:VEVENT
BEGIN:VEVENT
DTSTART;TZID=UTC:20291125T103000
DTEND;TZID=UTC:20291125T120000
DTSTAMP:20260421T042507
CREATED:20251107T041130Z
LAST-MODIFIED:20251107T041130Z
UID:10000363-1890297000-1890302400@thememphischurch.org
SUMMARY:Sunday Service
DESCRIPTION:7400 Cordova Club Dr E \nCordova\, TN 38018 \nhttps://www.youtube.com/@thememphischurch296 \n 
URL:https://thememphischurch.org/event/sunday-service/2029-11-25/
LOCATION:TMC\, 7400 Cordova Club Dr E
END:VEVENT
BEGIN:VEVENT
DTSTART;TZID=UTC:20291202T103000
DTEND;TZID=UTC:20291202T120000
DTSTAMP:20260421T042507
CREATED:20251107T041130Z
LAST-MODIFIED:20251107T041130Z
UID:10000364-1890901800-1890907200@thememphischurch.org
SUMMARY:Sunday Service
DESCRIPTION:7400 Cordova Club Dr E \nCordova\, TN 38018 \nhttps://www.youtube.com/@thememphischurch296 \n 
URL:https://thememphischurch.org/event/sunday-service/2029-12-02/
LOCATION:TMC\, 7400 Cordova Club Dr E
END:VEVENT
BEGIN:VEVENT
DTSTART;TZID=UTC:20291209T103000
DTEND;TZID=UTC:20291209T120000
DTSTAMP:20260421T042507
CREATED:20251107T041130Z
LAST-MODIFIED:20251107T041130Z
UID:10000365-1891506600-1891512000@thememphischurch.org
SUMMARY:Sunday Service
DESCRIPTION:7400 Cordova Club Dr E \nCordova\, TN 38018 \nhttps://www.youtube.com/@thememphischurch296 \n 
URL:https://thememphischurch.org/event/sunday-service/2029-12-09/
LOCATION:TMC\, 7400 Cordova Club Dr E
END:VEVENT
BEGIN:VEVENT
DTSTART;TZID=UTC:20291216T103000
DTEND;TZID=UTC:20291216T120000
DTSTAMP:20260421T042507
CREATED:20251107T041130Z
LAST-MODIFIED:20251107T041130Z
UID:10000366-1892111400-1892116800@thememphischurch.org
SUMMARY:Sunday Service
DESCRIPTION:7400 Cordova Club Dr E \nCordova\, TN 38018 \nhttps://www.youtube.com/@thememphischurch296 \n 
URL:https://thememphischurch.org/event/sunday-service/2029-12-16/
LOCATION:TMC\, 7400 Cordova Club Dr E
END:VEVENT
BEGIN:VEVENT
DTSTART;TZID=UTC:20291223T103000
DTEND;TZID=UTC:20291223T120000
DTSTAMP:20260421T042507
CREATED:20251107T041130Z
LAST-MODIFIED:20251107T041130Z
UID:10000367-1892716200-1892721600@thememphischurch.org
SUMMARY:Sunday Service
DESCRIPTION:7400 Cordova Club Dr E \nCordova\, TN 38018 \nhttps://www.youtube.com/@thememphischurch296 \n 
URL:https://thememphischurch.org/event/sunday-service/2029-12-23/
LOCATION:TMC\, 7400 Cordova Club Dr E
END:VEVENT
BEGIN:VEVENT
DTSTART;TZID=UTC:20291230T103000
DTEND;TZID=UTC:20291230T120000
DTSTAMP:20260421T042507
CREATED:20251107T041130Z
LAST-MODIFIED:20251107T041130Z
UID:10000368-1893321000-1893326400@thememphischurch.org
SUMMARY:Sunday Service
DESCRIPTION:7400 Cordova Club Dr E \nCordova\, TN 38018 \nhttps://www.youtube.com/@thememphischurch296 \n 
URL:https://thememphischurch.org/event/sunday-service/2029-12-30/
LOCATION:TMC\, 7400 Cordova Club Dr E
END:VEVENT
BEGIN:VEVENT
DTSTART;TZID=UTC:20300106T103000
DTEND;TZID=UTC:20300106T120000
DTSTAMP:20260421T042507
CREATED:20251107T041130Z
LAST-MODIFIED:20251107T041130Z
UID:10000369-1893925800-1893931200@thememphischurch.org
SUMMARY:Sunday Service
DESCRIPTION:7400 Cordova Club Dr E \nCordova\, TN 38018 \nhttps://www.youtube.com/@thememphischurch296 \n 
URL:https://thememphischurch.org/event/sunday-service/2030-01-06/
LOCATION:TMC\, 7400 Cordova Club Dr E
END:VEVENT
BEGIN:VEVENT
DTSTART;TZID=UTC:20300113T103000
DTEND;TZID=UTC:20300113T120000
DTSTAMP:20260421T042507
CREATED:20251107T041130Z
LAST-MODIFIED:20251107T041130Z
UID:10000370-1894530600-1894536000@thememphischurch.org
SUMMARY:Sunday Service
DESCRIPTION:7400 Cordova Club Dr E \nCordova\, TN 38018 \nhttps://www.youtube.com/@thememphischurch296 \n 
URL:https://thememphischurch.org/event/sunday-service/2030-01-13/
LOCATION:TMC\, 7400 Cordova Club Dr E
END:VEVENT
BEGIN:VEVENT
DTSTART;TZID=UTC:20300120T103000
DTEND;TZID=UTC:20300120T120000
DTSTAMP:20260421T042507
CREATED:20251107T041130Z
LAST-MODIFIED:20251107T041130Z
UID:10000371-1895135400-1895140800@thememphischurch.org
SUMMARY:Sunday Service
DESCRIPTION:7400 Cordova Club Dr E \nCordova\, TN 38018 \nhttps://www.youtube.com/@thememphischurch296 \n 
URL:https://thememphischurch.org/event/sunday-service/2030-01-20/
LOCATION:TMC\, 7400 Cordova Club Dr E
END:VEVENT
BEGIN:VEVENT
DTSTART;TZID=UTC:20300127T103000
DTEND;TZID=UTC:20300127T120000
DTSTAMP:20260421T042507
CREATED:20251107T041130Z
LAST-MODIFIED:20251107T041130Z
UID:10000372-1895740200-1895745600@thememphischurch.org
SUMMARY:Sunday Service
DESCRIPTION:7400 Cordova Club Dr E \nCordova\, TN 38018 \nhttps://www.youtube.com/@thememphischurch296 \n 
URL:https://thememphischurch.org/event/sunday-service/2030-01-27/
LOCATION:TMC\, 7400 Cordova Club Dr E
END:VEVENT
BEGIN:VEVENT
DTSTART;TZID=UTC:20300203T103000
DTEND;TZID=UTC:20300203T120000
DTSTAMP:20260421T042507
CREATED:20251107T041130Z
LAST-MODIFIED:20251107T041130Z
UID:10000373-1896345000-1896350400@thememphischurch.org
SUMMARY:Sunday Service
DESCRIPTION:7400 Cordova Club Dr E \nCordova\, TN 38018 \nhttps://www.youtube.com/@thememphischurch296 \n 
URL:https://thememphischurch.org/event/sunday-service/2030-02-03/
LOCATION:TMC\, 7400 Cordova Club Dr E
END:VEVENT
BEGIN:VEVENT
DTSTART;TZID=UTC:20300210T103000
DTEND;TZID=UTC:20300210T120000
DTSTAMP:20260421T042507
CREATED:20251107T041130Z
LAST-MODIFIED:20251107T041130Z
UID:10000374-1896949800-1896955200@thememphischurch.org
SUMMARY:Sunday Service
DESCRIPTION:7400 Cordova Club Dr E \nCordova\, TN 38018 \nhttps://www.youtube.com/@thememphischurch296 \n 
URL:https://thememphischurch.org/event/sunday-service/2030-02-10/
LOCATION:TMC\, 7400 Cordova Club Dr E
END:VEVENT
BEGIN:VEVENT
DTSTART;TZID=UTC:20300217T103000
DTEND;TZID=UTC:20300217T120000
DTSTAMP:20260421T042507
CREATED:20251107T041130Z
LAST-MODIFIED:20251107T041130Z
UID:10000375-1897554600-1897560000@thememphischurch.org
SUMMARY:Sunday Service
DESCRIPTION:7400 Cordova Club Dr E \nCordova\, TN 38018 \nhttps://www.youtube.com/@thememphischurch296 \n 
URL:https://thememphischurch.org/event/sunday-service/2030-02-17/
LOCATION:TMC\, 7400 Cordova Club Dr E
END:VEVENT
BEGIN:VEVENT
DTSTART;TZID=UTC:20300224T103000
DTEND;TZID=UTC:20300224T120000
DTSTAMP:20260421T042507
CREATED:20251107T041130Z
LAST-MODIFIED:20251107T041130Z
UID:10000376-1898159400-1898164800@thememphischurch.org
SUMMARY:Sunday Service
DESCRIPTION:7400 Cordova Club Dr E \nCordova\, TN 38018 \nhttps://www.youtube.com/@thememphischurch296 \n 
URL:https://thememphischurch.org/event/sunday-service/2030-02-24/
LOCATION:TMC\, 7400 Cordova Club Dr E
END:VEVENT
BEGIN:VEVENT
DTSTART;TZID=UTC:20300303T103000
DTEND;TZID=UTC:20300303T120000
DTSTAMP:20260421T042507
CREATED:20251107T041130Z
LAST-MODIFIED:20251107T041130Z
UID:10000377-1898764200-1898769600@thememphischurch.org
SUMMARY:Sunday Service
DESCRIPTION:7400 Cordova Club Dr E \nCordova\, TN 38018 \nhttps://www.youtube.com/@thememphischurch296 \n 
URL:https://thememphischurch.org/event/sunday-service/2030-03-03/
LOCATION:TMC\, 7400 Cordova Club Dr E
END:VEVENT
BEGIN:VEVENT
DTSTART;TZID=UTC:20300310T103000
DTEND;TZID=UTC:20300310T120000
DTSTAMP:20260421T042507
CREATED:20251107T041130Z
LAST-MODIFIED:20251107T041130Z
UID:10000378-1899369000-1899374400@thememphischurch.org
SUMMARY:Sunday Service
DESCRIPTION:7400 Cordova Club Dr E \nCordova\, TN 38018 \nhttps://www.youtube.com/@thememphischurch296 \n 
URL:https://thememphischurch.org/event/sunday-service/2030-03-10/
LOCATION:TMC\, 7400 Cordova Club Dr E
END:VEVENT
BEGIN:VEVENT
DTSTART;TZID=UTC:20300317T103000
DTEND;TZID=UTC:20300317T120000
DTSTAMP:20260421T042507
CREATED:20251107T041130Z
LAST-MODIFIED:20251107T041130Z
UID:10000379-1899973800-1899979200@thememphischurch.org
SUMMARY:Sunday Service
DESCRIPTION:7400 Cordova Club Dr E \nCordova\, TN 38018 \nhttps://www.youtube.com/@thememphischurch296 \n 
URL:https://thememphischurch.org/event/sunday-service/2030-03-17/
LOCATION:TMC\, 7400 Cordova Club Dr E
END:VEVENT
BEGIN:VEVENT
DTSTART;TZID=UTC:20300324T103000
DTEND;TZID=UTC:20300324T120000
DTSTAMP:20260421T042507
CREATED:20251107T041130Z
LAST-MODIFIED:20251107T041130Z
UID:10000380-1900578600-1900584000@thememphischurch.org
SUMMARY:Sunday Service
DESCRIPTION:7400 Cordova Club Dr E \nCordova\, TN 38018 \nhttps://www.youtube.com/@thememphischurch296 \n 
URL:https://thememphischurch.org/event/sunday-service/2030-03-24/
LOCATION:TMC\, 7400 Cordova Club Dr E
END:VEVENT
BEGIN:VEVENT
DTSTART;TZID=UTC:20300331T103000
DTEND;TZID=UTC:20300331T120000
DTSTAMP:20260421T042507
CREATED:20251107T041130Z
LAST-MODIFIED:20251107T041130Z
UID:10000381-1901183400-1901188800@thememphischurch.org
SUMMARY:Sunday Service
DESCRIPTION:7400 Cordova Club Dr E \nCordova\, TN 38018 \nhttps://www.youtube.com/@thememphischurch296 \n 
URL:https://thememphischurch.org/event/sunday-service/2030-03-31/
LOCATION:TMC\, 7400 Cordova Club Dr E
END:VEVENT
BEGIN:VEVENT
DTSTART;TZID=UTC:20300407T103000
DTEND;TZID=UTC:20300407T120000
DTSTAMP:20260421T042507
CREATED:20251107T041130Z
LAST-MODIFIED:20251107T041130Z
UID:10000382-1901788200-1901793600@thememphischurch.org
SUMMARY:Sunday Service
DESCRIPTION:7400 Cordova Club Dr E \nCordova\, TN 38018 \nhttps://www.youtube.com/@thememphischurch296 \n 
URL:https://thememphischurch.org/event/sunday-service/2030-04-07/
LOCATION:TMC\, 7400 Cordova Club Dr E
END:VEVENT
BEGIN:VEVENT
DTSTART;TZID=UTC:20300414T103000
DTEND;TZID=UTC:20300414T120000
DTSTAMP:20260421T042507
CREATED:20251107T041130Z
LAST-MODIFIED:20251107T041130Z
UID:10000383-1902393000-1902398400@thememphischurch.org
SUMMARY:Sunday Service
DESCRIPTION:7400 Cordova Club Dr E \nCordova\, TN 38018 \nhttps://www.youtube.com/@thememphischurch296 \n 
URL:https://thememphischurch.org/event/sunday-service/2030-04-14/
LOCATION:TMC\, 7400 Cordova Club Dr E
END:VEVENT
BEGIN:VEVENT
DTSTART;TZID=UTC:20300421T103000
DTEND;TZID=UTC:20300421T120000
DTSTAMP:20260421T042507
CREATED:20251107T041130Z
LAST-MODIFIED:20251107T041130Z
UID:10000384-1902997800-1903003200@thememphischurch.org
SUMMARY:Sunday Service
DESCRIPTION:7400 Cordova Club Dr E \nCordova\, TN 38018 \nhttps://www.youtube.com/@thememphischurch296 \n 
URL:https://thememphischurch.org/event/sunday-service/2030-04-21/
LOCATION:TMC\, 7400 Cordova Club Dr E
END:VEVENT
BEGIN:VEVENT
DTSTART;TZID=UTC:20300428T103000
DTEND;TZID=UTC:20300428T120000
DTSTAMP:20260421T042507
CREATED:20251107T041130Z
LAST-MODIFIED:20251107T041130Z
UID:10000385-1903602600-1903608000@thememphischurch.org
SUMMARY:Sunday Service
DESCRIPTION:7400 Cordova Club Dr E \nCordova\, TN 38018 \nhttps://www.youtube.com/@thememphischurch296 \n 
URL:https://thememphischurch.org/event/sunday-service/2030-04-28/
LOCATION:TMC\, 7400 Cordova Club Dr E
END:VEVENT
END:VCALENDAR