BEGIN:VCALENDAR
VERSION:2.0
PRODID:-//The Memphis Church - ECPv6.15.17//NONSGML v1.0//EN
CALSCALE:GREGORIAN
METHOD:PUBLISH
X-ORIGINAL-URL:https://thememphischurch.org
X-WR-CALDESC:Events for The Memphis Church
REFRESH-INTERVAL;VALUE=DURATION:PT1H
X-Robots-Tag:noindex
X-PUBLISHED-TTL:PT1H
BEGIN:VTIMEZONE
TZID:UTC
BEGIN:STANDARD
TZOFFSETFROM:+0000
TZOFFSETTO:+0000
TZNAME:UTC
DTSTART:20290101T000000
END:STANDARD
END:VTIMEZONE
BEGIN:VEVENT
DTSTART;TZID=UTC:20300324T103000
DTEND;TZID=UTC:20300324T120000
DTSTAMP:20260421T150033
CREATED:20251107T041130Z
LAST-MODIFIED:20251107T041130Z
UID:10000380-1900578600-1900584000@thememphischurch.org
SUMMARY:Sunday Service
DESCRIPTION:7400 Cordova Club Dr E \nCordova\, TN 38018 \nhttps://www.youtube.com/@thememphischurch296 \n 
URL:https://thememphischurch.org/event/sunday-service/2030-03-24/
LOCATION:TMC\, 7400 Cordova Club Dr E
END:VEVENT
BEGIN:VEVENT
DTSTART;TZID=UTC:20300331T103000
DTEND;TZID=UTC:20300331T120000
DTSTAMP:20260421T150033
CREATED:20251107T041130Z
LAST-MODIFIED:20251107T041130Z
UID:10000381-1901183400-1901188800@thememphischurch.org
SUMMARY:Sunday Service
DESCRIPTION:7400 Cordova Club Dr E \nCordova\, TN 38018 \nhttps://www.youtube.com/@thememphischurch296 \n 
URL:https://thememphischurch.org/event/sunday-service/2030-03-31/
LOCATION:TMC\, 7400 Cordova Club Dr E
END:VEVENT
BEGIN:VEVENT
DTSTART;TZID=UTC:20300407T103000
DTEND;TZID=UTC:20300407T120000
DTSTAMP:20260421T150033
CREATED:20251107T041130Z
LAST-MODIFIED:20251107T041130Z
UID:10000382-1901788200-1901793600@thememphischurch.org
SUMMARY:Sunday Service
DESCRIPTION:7400 Cordova Club Dr E \nCordova\, TN 38018 \nhttps://www.youtube.com/@thememphischurch296 \n 
URL:https://thememphischurch.org/event/sunday-service/2030-04-07/
LOCATION:TMC\, 7400 Cordova Club Dr E
END:VEVENT
BEGIN:VEVENT
DTSTART;TZID=UTC:20300414T103000
DTEND;TZID=UTC:20300414T120000
DTSTAMP:20260421T150033
CREATED:20251107T041130Z
LAST-MODIFIED:20251107T041130Z
UID:10000383-1902393000-1902398400@thememphischurch.org
SUMMARY:Sunday Service
DESCRIPTION:7400 Cordova Club Dr E \nCordova\, TN 38018 \nhttps://www.youtube.com/@thememphischurch296 \n 
URL:https://thememphischurch.org/event/sunday-service/2030-04-14/
LOCATION:TMC\, 7400 Cordova Club Dr E
END:VEVENT
BEGIN:VEVENT
DTSTART;TZID=UTC:20300421T103000
DTEND;TZID=UTC:20300421T120000
DTSTAMP:20260421T150033
CREATED:20251107T041130Z
LAST-MODIFIED:20251107T041130Z
UID:10000384-1902997800-1903003200@thememphischurch.org
SUMMARY:Sunday Service
DESCRIPTION:7400 Cordova Club Dr E \nCordova\, TN 38018 \nhttps://www.youtube.com/@thememphischurch296 \n 
URL:https://thememphischurch.org/event/sunday-service/2030-04-21/
LOCATION:TMC\, 7400 Cordova Club Dr E
END:VEVENT
BEGIN:VEVENT
DTSTART;TZID=UTC:20300428T103000
DTEND;TZID=UTC:20300428T120000
DTSTAMP:20260421T150033
CREATED:20251107T041130Z
LAST-MODIFIED:20251107T041130Z
UID:10000385-1903602600-1903608000@thememphischurch.org
SUMMARY:Sunday Service
DESCRIPTION:7400 Cordova Club Dr E \nCordova\, TN 38018 \nhttps://www.youtube.com/@thememphischurch296 \n 
URL:https://thememphischurch.org/event/sunday-service/2030-04-28/
LOCATION:TMC\, 7400 Cordova Club Dr E
END:VEVENT
BEGIN:VEVENT
DTSTART;TZID=UTC:20300505T103000
DTEND;TZID=UTC:20300505T120000
DTSTAMP:20260421T150033
CREATED:20251107T041130Z
LAST-MODIFIED:20251107T041130Z
UID:10000386-1904207400-1904212800@thememphischurch.org
SUMMARY:Sunday Service
DESCRIPTION:7400 Cordova Club Dr E \nCordova\, TN 38018 \nhttps://www.youtube.com/@thememphischurch296 \n 
URL:https://thememphischurch.org/event/sunday-service/2030-05-05/
LOCATION:TMC\, 7400 Cordova Club Dr E
END:VEVENT
BEGIN:VEVENT
DTSTART;TZID=UTC:20300512T103000
DTEND;TZID=UTC:20300512T120000
DTSTAMP:20260421T150033
CREATED:20251107T041130Z
LAST-MODIFIED:20251107T041130Z
UID:10000387-1904812200-1904817600@thememphischurch.org
SUMMARY:Sunday Service
DESCRIPTION:7400 Cordova Club Dr E \nCordova\, TN 38018 \nhttps://www.youtube.com/@thememphischurch296 \n 
URL:https://thememphischurch.org/event/sunday-service/2030-05-12/
LOCATION:TMC\, 7400 Cordova Club Dr E
END:VEVENT
BEGIN:VEVENT
DTSTART;TZID=UTC:20300519T103000
DTEND;TZID=UTC:20300519T120000
DTSTAMP:20260421T150033
CREATED:20251107T041130Z
LAST-MODIFIED:20251107T041130Z
UID:10000388-1905417000-1905422400@thememphischurch.org
SUMMARY:Sunday Service
DESCRIPTION:7400 Cordova Club Dr E \nCordova\, TN 38018 \nhttps://www.youtube.com/@thememphischurch296 \n 
URL:https://thememphischurch.org/event/sunday-service/2030-05-19/
LOCATION:TMC\, 7400 Cordova Club Dr E
END:VEVENT
BEGIN:VEVENT
DTSTART;TZID=UTC:20300526T103000
DTEND;TZID=UTC:20300526T120000
DTSTAMP:20260421T150033
CREATED:20251107T041130Z
LAST-MODIFIED:20251107T041130Z
UID:10000389-1906021800-1906027200@thememphischurch.org
SUMMARY:Sunday Service
DESCRIPTION:7400 Cordova Club Dr E \nCordova\, TN 38018 \nhttps://www.youtube.com/@thememphischurch296 \n 
URL:https://thememphischurch.org/event/sunday-service/2030-05-26/
LOCATION:TMC\, 7400 Cordova Club Dr E
END:VEVENT
BEGIN:VEVENT
DTSTART;TZID=UTC:20300602T103000
DTEND;TZID=UTC:20300602T120000
DTSTAMP:20260421T150033
CREATED:20251107T041130Z
LAST-MODIFIED:20251107T041130Z
UID:10000390-1906626600-1906632000@thememphischurch.org
SUMMARY:Sunday Service
DESCRIPTION:7400 Cordova Club Dr E \nCordova\, TN 38018 \nhttps://www.youtube.com/@thememphischurch296 \n 
URL:https://thememphischurch.org/event/sunday-service/2030-06-02/
LOCATION:TMC\, 7400 Cordova Club Dr E
END:VEVENT
BEGIN:VEVENT
DTSTART;TZID=UTC:20300609T103000
DTEND;TZID=UTC:20300609T120000
DTSTAMP:20260421T150033
CREATED:20251107T041130Z
LAST-MODIFIED:20251107T041130Z
UID:10000391-1907231400-1907236800@thememphischurch.org
SUMMARY:Sunday Service
DESCRIPTION:7400 Cordova Club Dr E \nCordova\, TN 38018 \nhttps://www.youtube.com/@thememphischurch296 \n 
URL:https://thememphischurch.org/event/sunday-service/2030-06-09/
LOCATION:TMC\, 7400 Cordova Club Dr E
END:VEVENT
BEGIN:VEVENT
DTSTART;TZID=UTC:20300616T103000
DTEND;TZID=UTC:20300616T120000
DTSTAMP:20260421T150033
CREATED:20251107T041130Z
LAST-MODIFIED:20251107T041130Z
UID:10000392-1907836200-1907841600@thememphischurch.org
SUMMARY:Sunday Service
DESCRIPTION:7400 Cordova Club Dr E \nCordova\, TN 38018 \nhttps://www.youtube.com/@thememphischurch296 \n 
URL:https://thememphischurch.org/event/sunday-service/2030-06-16/
LOCATION:TMC\, 7400 Cordova Club Dr E
END:VEVENT
BEGIN:VEVENT
DTSTART;TZID=UTC:20300623T103000
DTEND;TZID=UTC:20300623T120000
DTSTAMP:20260421T150033
CREATED:20251107T041130Z
LAST-MODIFIED:20251107T041130Z
UID:10000393-1908441000-1908446400@thememphischurch.org
SUMMARY:Sunday Service
DESCRIPTION:7400 Cordova Club Dr E \nCordova\, TN 38018 \nhttps://www.youtube.com/@thememphischurch296 \n 
URL:https://thememphischurch.org/event/sunday-service/2030-06-23/
LOCATION:TMC\, 7400 Cordova Club Dr E
END:VEVENT
BEGIN:VEVENT
DTSTART;TZID=UTC:20300630T103000
DTEND;TZID=UTC:20300630T120000
DTSTAMP:20260421T150033
CREATED:20251107T041130Z
LAST-MODIFIED:20251107T041130Z
UID:10000394-1909045800-1909051200@thememphischurch.org
SUMMARY:Sunday Service
DESCRIPTION:7400 Cordova Club Dr E \nCordova\, TN 38018 \nhttps://www.youtube.com/@thememphischurch296 \n 
URL:https://thememphischurch.org/event/sunday-service/2030-06-30/
LOCATION:TMC\, 7400 Cordova Club Dr E
END:VEVENT
BEGIN:VEVENT
DTSTART;TZID=UTC:20300707T103000
DTEND;TZID=UTC:20300707T120000
DTSTAMP:20260421T150033
CREATED:20251107T041130Z
LAST-MODIFIED:20251107T041130Z
UID:10000395-1909650600-1909656000@thememphischurch.org
SUMMARY:Sunday Service
DESCRIPTION:7400 Cordova Club Dr E \nCordova\, TN 38018 \nhttps://www.youtube.com/@thememphischurch296 \n 
URL:https://thememphischurch.org/event/sunday-service/2030-07-07/
LOCATION:TMC\, 7400 Cordova Club Dr E
END:VEVENT
BEGIN:VEVENT
DTSTART;TZID=UTC:20300714T103000
DTEND;TZID=UTC:20300714T120000
DTSTAMP:20260421T150033
CREATED:20251107T041130Z
LAST-MODIFIED:20251107T041130Z
UID:10000396-1910255400-1910260800@thememphischurch.org
SUMMARY:Sunday Service
DESCRIPTION:7400 Cordova Club Dr E \nCordova\, TN 38018 \nhttps://www.youtube.com/@thememphischurch296 \n 
URL:https://thememphischurch.org/event/sunday-service/2030-07-14/
LOCATION:TMC\, 7400 Cordova Club Dr E
END:VEVENT
BEGIN:VEVENT
DTSTART;TZID=UTC:20300721T103000
DTEND;TZID=UTC:20300721T120000
DTSTAMP:20260421T150033
CREATED:20251107T041130Z
LAST-MODIFIED:20251107T041130Z
UID:10000397-1910860200-1910865600@thememphischurch.org
SUMMARY:Sunday Service
DESCRIPTION:7400 Cordova Club Dr E \nCordova\, TN 38018 \nhttps://www.youtube.com/@thememphischurch296 \n 
URL:https://thememphischurch.org/event/sunday-service/2030-07-21/
LOCATION:TMC\, 7400 Cordova Club Dr E
END:VEVENT
BEGIN:VEVENT
DTSTART;TZID=UTC:20300728T103000
DTEND;TZID=UTC:20300728T120000
DTSTAMP:20260421T150033
CREATED:20251107T041130Z
LAST-MODIFIED:20251107T041130Z
UID:10000398-1911465000-1911470400@thememphischurch.org
SUMMARY:Sunday Service
DESCRIPTION:7400 Cordova Club Dr E \nCordova\, TN 38018 \nhttps://www.youtube.com/@thememphischurch296 \n 
URL:https://thememphischurch.org/event/sunday-service/2030-07-28/
LOCATION:TMC\, 7400 Cordova Club Dr E
END:VEVENT
BEGIN:VEVENT
DTSTART;TZID=UTC:20300804T103000
DTEND;TZID=UTC:20300804T120000
DTSTAMP:20260421T150033
CREATED:20251107T041130Z
LAST-MODIFIED:20251107T041130Z
UID:10000399-1912069800-1912075200@thememphischurch.org
SUMMARY:Sunday Service
DESCRIPTION:7400 Cordova Club Dr E \nCordova\, TN 38018 \nhttps://www.youtube.com/@thememphischurch296 \n 
URL:https://thememphischurch.org/event/sunday-service/2030-08-04/
LOCATION:TMC\, 7400 Cordova Club Dr E
END:VEVENT
BEGIN:VEVENT
DTSTART;TZID=UTC:20300811T103000
DTEND;TZID=UTC:20300811T120000
DTSTAMP:20260421T150033
CREATED:20251107T041130Z
LAST-MODIFIED:20251107T041130Z
UID:10000400-1912674600-1912680000@thememphischurch.org
SUMMARY:Sunday Service
DESCRIPTION:7400 Cordova Club Dr E \nCordova\, TN 38018 \nhttps://www.youtube.com/@thememphischurch296 \n 
URL:https://thememphischurch.org/event/sunday-service/2030-08-11/
LOCATION:TMC\, 7400 Cordova Club Dr E
END:VEVENT
BEGIN:VEVENT
DTSTART;TZID=UTC:20300818T103000
DTEND;TZID=UTC:20300818T120000
DTSTAMP:20260421T150033
CREATED:20251107T041130Z
LAST-MODIFIED:20251107T041130Z
UID:10000401-1913279400-1913284800@thememphischurch.org
SUMMARY:Sunday Service
DESCRIPTION:7400 Cordova Club Dr E \nCordova\, TN 38018 \nhttps://www.youtube.com/@thememphischurch296 \n 
URL:https://thememphischurch.org/event/sunday-service/2030-08-18/
LOCATION:TMC\, 7400 Cordova Club Dr E
END:VEVENT
BEGIN:VEVENT
DTSTART;TZID=UTC:20300825T103000
DTEND;TZID=UTC:20300825T120000
DTSTAMP:20260421T150033
CREATED:20251107T041130Z
LAST-MODIFIED:20251107T041130Z
UID:10000402-1913884200-1913889600@thememphischurch.org
SUMMARY:Sunday Service
DESCRIPTION:7400 Cordova Club Dr E \nCordova\, TN 38018 \nhttps://www.youtube.com/@thememphischurch296 \n 
URL:https://thememphischurch.org/event/sunday-service/2030-08-25/
LOCATION:TMC\, 7400 Cordova Club Dr E
END:VEVENT
BEGIN:VEVENT
DTSTART;TZID=UTC:20300901T103000
DTEND;TZID=UTC:20300901T120000
DTSTAMP:20260421T150033
CREATED:20251107T041130Z
LAST-MODIFIED:20251107T041130Z
UID:10000403-1914489000-1914494400@thememphischurch.org
SUMMARY:Sunday Service
DESCRIPTION:7400 Cordova Club Dr E \nCordova\, TN 38018 \nhttps://www.youtube.com/@thememphischurch296 \n 
URL:https://thememphischurch.org/event/sunday-service/2030-09-01/
LOCATION:TMC\, 7400 Cordova Club Dr E
END:VEVENT
BEGIN:VEVENT
DTSTART;TZID=UTC:20300908T103000
DTEND;TZID=UTC:20300908T120000
DTSTAMP:20260421T150033
CREATED:20251107T041130Z
LAST-MODIFIED:20251107T041130Z
UID:10000404-1915093800-1915099200@thememphischurch.org
SUMMARY:Sunday Service
DESCRIPTION:7400 Cordova Club Dr E \nCordova\, TN 38018 \nhttps://www.youtube.com/@thememphischurch296 \n 
URL:https://thememphischurch.org/event/sunday-service/2030-09-08/
LOCATION:TMC\, 7400 Cordova Club Dr E
END:VEVENT
BEGIN:VEVENT
DTSTART;TZID=UTC:20300915T103000
DTEND;TZID=UTC:20300915T120000
DTSTAMP:20260421T150033
CREATED:20251107T041130Z
LAST-MODIFIED:20251107T041130Z
UID:10000405-1915698600-1915704000@thememphischurch.org
SUMMARY:Sunday Service
DESCRIPTION:7400 Cordova Club Dr E \nCordova\, TN 38018 \nhttps://www.youtube.com/@thememphischurch296 \n 
URL:https://thememphischurch.org/event/sunday-service/2030-09-15/
LOCATION:TMC\, 7400 Cordova Club Dr E
END:VEVENT
BEGIN:VEVENT
DTSTART;TZID=UTC:20300922T103000
DTEND;TZID=UTC:20300922T120000
DTSTAMP:20260421T150033
CREATED:20251107T041130Z
LAST-MODIFIED:20251107T041130Z
UID:10000406-1916303400-1916308800@thememphischurch.org
SUMMARY:Sunday Service
DESCRIPTION:7400 Cordova Club Dr E \nCordova\, TN 38018 \nhttps://www.youtube.com/@thememphischurch296 \n 
URL:https://thememphischurch.org/event/sunday-service/2030-09-22/
LOCATION:TMC\, 7400 Cordova Club Dr E
END:VEVENT
BEGIN:VEVENT
DTSTART;TZID=UTC:20300929T103000
DTEND;TZID=UTC:20300929T120000
DTSTAMP:20260421T150033
CREATED:20251107T041130Z
LAST-MODIFIED:20251107T041130Z
UID:10000407-1916908200-1916913600@thememphischurch.org
SUMMARY:Sunday Service
DESCRIPTION:7400 Cordova Club Dr E \nCordova\, TN 38018 \nhttps://www.youtube.com/@thememphischurch296 \n 
URL:https://thememphischurch.org/event/sunday-service/2030-09-29/
LOCATION:TMC\, 7400 Cordova Club Dr E
END:VEVENT
BEGIN:VEVENT
DTSTART;TZID=UTC:20301006T103000
DTEND;TZID=UTC:20301006T120000
DTSTAMP:20260421T150033
CREATED:20251107T041130Z
LAST-MODIFIED:20251107T041130Z
UID:10000408-1917513000-1917518400@thememphischurch.org
SUMMARY:Sunday Service
DESCRIPTION:7400 Cordova Club Dr E \nCordova\, TN 38018 \nhttps://www.youtube.com/@thememphischurch296 \n 
URL:https://thememphischurch.org/event/sunday-service/2030-10-06/
LOCATION:TMC\, 7400 Cordova Club Dr E
END:VEVENT
BEGIN:VEVENT
DTSTART;TZID=UTC:20301013T103000
DTEND;TZID=UTC:20301013T120000
DTSTAMP:20260421T150033
CREATED:20251107T041130Z
LAST-MODIFIED:20251107T041130Z
UID:10000409-1918117800-1918123200@thememphischurch.org
SUMMARY:Sunday Service
DESCRIPTION:7400 Cordova Club Dr E \nCordova\, TN 38018 \nhttps://www.youtube.com/@thememphischurch296 \n 
URL:https://thememphischurch.org/event/sunday-service/2030-10-13/
LOCATION:TMC\, 7400 Cordova Club Dr E
END:VEVENT
END:VCALENDAR